BEGIN:VCALENDAR
VERSION:2.0
METHOD:PUBLISH
CALSCALE:GREGORIAN
PRODID:KKTIX
BEGIN:VTIMEZONE
TZID:Taipei
END:VTIMEZONE
BEGIN:VEVENT
DESCRIPTION:
DTEND:
DTSTAMP:20160217T190548Z
DTSTART:2026/05/14 19:30
CLASS:PUBLIC
LOCATION: 
SEQUENCE:0
SUMMARY:《記~藝中的迴音》2026嘉北國小管樂班成果發表會
UID:2016-02-17T19:05:48+08:00_301036563@web-kktix-i-367cf7b9
END:VEVENT
END:VCALENDAR
